BEGIN:VCALENDAR
VERSION:2.0
PRODID:-//The Charlotte Networking Hub - Charlotte Networking Events and Resources - ECPv6.15.20//NONSGML v1.0//EN
CALSCALE:GREGORIAN
METHOD:PUBLISH
X-WR-CALNAME:The Charlotte Networking Hub - Charlotte Networking Events and Resources
X-ORIGINAL-URL:https://www.clthub.net
X-WR-CALDESC:Events for The Charlotte Networking Hub - Charlotte Networking Events and Resources
REFRESH-INTERVAL;VALUE=DURATION:PT1H
X-Robots-Tag:noindex
X-PUBLISHED-TTL:PT1H
BEGIN:VTIMEZONE
TZID:America/New_York
BEGIN:DAYLIGHT
TZOFFSETFROM:-0500
TZOFFSETTO:-0400
TZNAME:EDT
DTSTART:20240310T070000
END:DAYLIGHT
BEGIN:STANDARD
TZOFFSETFROM:-0400
TZOFFSETTO:-0500
TZNAME:EST
DTSTART:20241103T060000
END:STANDARD
BEGIN:DAYLIGHT
TZOFFSETFROM:-0500
TZOFFSETTO:-0400
TZNAME:EDT
DTSTART:20250309T070000
END:DAYLIGHT
BEGIN:STANDARD
TZOFFSETFROM:-0400
TZOFFSETTO:-0500
TZNAME:EST
DTSTART:20251102T060000
END:STANDARD
BEGIN:DAYLIGHT
TZOFFSETFROM:-0500
TZOFFSETTO:-0400
TZNAME:EDT
DTSTART:20260308T070000
END:DAYLIGHT
BEGIN:STANDARD
TZOFFSETFROM:-0400
TZOFFSETTO:-0500
TZNAME:EST
DTSTART:20261101T060000
END:STANDARD
END:VTIMEZONE
BEGIN:VEVENT
DTSTART;TZID=America/New_York:20251023T083000
DTEND;TZID=America/New_York:20251023T100000
DTSTAMP:20260423T054536
CREATED:20251022T020516Z
LAST-MODIFIED:20251022T020522Z
UID:10001754-1761208200-1761213600@www.clthub.net
SUMMARY:Friends With Business: Oct Gathering (Bring a Friend!)
DESCRIPTION:Gathering in small groups to build trust\, share opportunities\, and learn from each other.  Come see how FWB is different.  Registration: https://buy.stripe.com/fZudR91Qc26j2Rx3aq2Ji17
URL:https://www.clthub.net/event/friends-with-business-oct-gathering-bring-a-friend/
LOCATION:Gourmand\, 4425 Sharon Rd S120\, Charlotte\, North Carolina\, 28211\, United States
ORGANIZER;CN="Friends with Business":MAILTO:dconway.fwb@gmail.com
GEO:35.1516256;-80.8268639
X-APPLE-STRUCTURED-LOCATION;VALUE=URI;X-ADDRESS=Gourmand 4425 Sharon Rd S120 Charlotte North Carolina 28211 United States;X-APPLE-RADIUS=500;X-TITLE=4425 Sharon Rd S120:geo:-80.8268639,35.1516256
END:VEVENT
END:VCALENDAR